Workbook

Sheet 1- resumé équipes 
A2: Appel à projets 2026 Consortiums de recherche «Prévention des cancers et Conduites addictives» PrevAddict26 Annexe financière Renseignements administratifs | F2: le document annexe financière budget prévsionnel est à soumettre dans la rubrique "budget prévsionnel du projet"
A3: Titre du projet
A4: Nom / Prénom du coordonnateur principal
A5: Organisme bénéficiaire de la subvention INCa
A6: Nom / Prénom du représentant légal
A7: Nombre d'équipes
C9: Le tableau de synthèse, ci-dessous, est renseigné automatiquement à partir des données des détails par équipe des autres feuilles-onglets
B12: Personnel | F12: Fonctionnement | H12: Equipement | J12: Frais de gestion | L12: Total | N12: Recettes
B13: coût personnel statutaire | C13: coût personnel non statutaire | D13: coût total personnel | E13: subvention demandée | F13: coût total | G13: subvention demandée | H13: coût total | I13: subvention demandée | J13: coût total | K13: subvention demandée | L13: coût total | M13: subvention demandée | N13: subvention demandée | O13: autre(s) subvention(s) | P13: autres dont fonds propres
A14: ='3- détails équipe 1'!B5 -> 0 | B14: ='3- détails équipe 1'!B17 -> 0 | C14: ='3- détails équipe 1'!B22 -> 0 | D14: =SUM(B14+C14) -> 0 | E14: ='3- détails équipe 1'!C22 -> 0 | F14: ='3- détails équipe 1'!B27 -> 0 | G14: ='3- détails équipe 1'!C27 -> 0 | H14: ='3- détails équipe 1'!B32 -> 0 | I14: ='3- détails équipe 1'!C32 -> 0 | J14: ='3- détails équipe 1'!B35 -> 0 | K14: ='3- détails équipe 1'!C35 -> 0 | L14: =B14+C14+F14+H14+J14 -> 0 | M14: =E14+G14+I14+K14 -> 0 | N14: ='3- détails équipe 1'!B39 -> 0 | O14: ='3- détails équipe 1'!B40 -> 0 | P14: ='3- détails équipe 1'!B41 -> 0
A15: ='3- détails équipe 2'!B5 -> 0 | B15: ='3- détails équipe 2'!B17 -> 0 | C15: ='3- détails équipe 2'!B22 -> 0 | D15: =SUM(B15+C15) -> 0 | E15: ='3- détails équipe 2'!C22 -> 0 | F15: ='3- détails équipe 2'!B27 -> 0 | G15: ='3- détails équipe 2'!C27 -> 0 | H15: ='3- détails équipe 2'!B32 -> 0 | I15: ='3- détails équipe 2'!C32 -> 0 | J15: ='3- détails équipe 2'!B35 -> 0 | K15: ='3- détails équipe 2'!C35 -> 0 | L15: =B15+C15+F15+H15+J15 -> 0 | M15: =E15+G15+I15+K15 -> 0 | N15: ='3- détails équipe 2'!B39 -> 0 | O15: ='3- détails équipe 2'!B40 -> 0 | P15: ='3- détails équipe 2'!B41 -> 0
A16: ='3- détails équipe 3'!B5 -> 0 | B16: ='3- détails équipe 3'!B17 -> 0 | C16: ='3- détails équipe 3'!B22 -> 0 | D16: =SUM(B16+C16) -> 0 | E16: ='3- détails équipe 3'!C22 -> 0 | F16: ='3- détails équipe 3'!B27 -> 0 | G16: ='3- détails équipe 3'!C27 -> 0 | H16: ='3- détails équipe 3'!B32 -> 0 | I16: ='3- détails équipe 3'!C32 -> 0 | J16: ='3- détails équipe 3'!B35 -> 0 | K16: ='3- détails équipe 3'!C35 -> 0 | L16: =B16+C16+F16+H16+J16 -> 0 | M16: =E16+G16+I16+K16 -> 0 | N16: ='3- détails équipe 3'!B39 -> 0 | O16: ='3- détails équipe 3'!B40 -> 0 | P16: ='3- détails équipe 3'!B41 -> 0
A17: ='3- détails équipe 4'!B5 -> 0 | B17: ='3- détails équipe 4'!B17 -> 0 | C17: ='3- détails équipe 4'!B22 -> 0 | D17: =SUM(B17+C17) -> 0 | E17: ='3- détails équipe 4'!C22 -> 0 | F17: ='3- détails équipe 4'!B27 -> 0 | G17: ='3- détails équipe 4'!C27 -> 0 | H17: ='3- détails équipe 4'!B32 -> 0 | I17: ='3- détails équipe 4'!C32 -> 0 | J17: ='3- détails équipe 4'!B35 -> 0 | K17: ='3- détails équipe 4'!C35 -> 0 | L17: =B17+C17+F17+H17+J17 -> 0 | M17: =E17+G17+I17+K17 -> 0 | N17: ='3- détails équipe 4'!B39 -> 0 | O17: ='3- détails équipe 4'!B40 -> 0 | P17: ='3- détails équipe 4'!B41 -> 0
A18: ='3- détails équipe 5'!B5 -> 0 | B18: ='3- détails équipe 5'!B17 -> 0 | C18: ='3- détails équipe 5'!B22 -> 0 | D18: =SUM(B18+C18) -> 0 | E18: ='3- détails équipe 5'!C22 -> 0 | F18: ='3- détails équipe 5'!B27 -> 0 | G18: ='3- détails équipe 5'!C27 -> 0 | H18: ='3- détails équipe 5'!B32 -> 0 | I18: ='3- détails équipe 5'!C32 -> 0 | J18: ='3- détails équipe 5'!B35 -> 0 | K18: ='3- détails équipe 5'!C35 -> 0 | L18: =B18+C18+F18+H18+J18 -> 0 | M18: =E18+G18+I18+K18 -> 0 | N18: ='3- détails équipe 5'!B39 -> 0 | O18: ='3- détails équipe 5'!B40 -> 0 | P18: ='3- détails équipe 5'!B41 -> 0
A19: Total | B19: =SUM(B14:B18) -> 0 | C19: =SUM(C14:C18) -> 0 | D19: =SUM(D14:D18) -> 0 | E19: =SUM(E14:E18) -> 0 | F19: =SUM(F14:F18) -> 0 | G19: =SUM(G14:G18) -> 0 | H19: =SUM(H14:H18) -> 0 | I19: =SUM(I14:I18) -> 0 | ... K19: =SUM(K14:K18) -> 0 | L19: =B19+C19+F19+H19+J19 -> 0 | M19: =SUM(M14:M18) -> 0 | N19: =SUM(N14:N18) -> 0 | O19: =SUM(O14:O18) -> 0 | P19: =SUM(P14:P18) -> 0
A20: Le tableau de synthèse est renseigné automatiquement à partir des données des détails par équipe.

Sheet 2- coût total projet 
A2: ='1- resumé équipes '!A2:E2 -> Appel à projets 2026 Consortiums de recherche «Prévention des cancers et Conduites addictives» PrevAddict26 Annexe financière Renseignements administratifs
A3: Attention ce tableau est complété automatiquement à partir de l'onglet résumé par équipes
A4: Titre du projet | B4: ='1- resumé équipes '!B3:E3 -> 0
A5: Nom / Prénom du coordonnateur principal | B5: ='1- resumé équipes '!B4:F4 -> 0
A6: Organisme bénéficiaire de la subvention INCa | B6: ='1- resumé équipes '!B5:F5 -> 0
A7: Nom / Prénom du représentant légal | B7: ='1- resumé équipes '!B6:F6 -> 0
A8: Nombre d'équipes | B8: ='1- resumé équipes '!B7:F7 -> 0
A9: Budget récapitulatif du projet
B10: DEPENSES DU PROJET (en €)
B11: Dépenses directes liées à l'exécution du projet | C11: Dépenses demandées et éligibles INCa
A12: Dépenses de personnel relatives aux fonctionnaires d'état, hospitaliers,territoriaux ou internationaux | B12: ='1- resumé équipes '!B19 -> 0 | C12: non éligible
A14: Dépenses de personnel non statutaire | B14: ='1- resumé équipes '!C19 -> 0 | C14: ='1- resumé équipes '!E19 -> 0
A16: Dépenses de fonctionnement (1) | B16: ='1- resumé équipes '!F19 -> 0 | C16: ='1- resumé équipes '!G19 -> 0
A18: Dépenses d'équipement (2) | B18: ='1- resumé équipes '!H19 -> 0 | C18: ='1- resumé équipes '!I19 -> 0
A20: Frais de gestion (3) | B20: ='1- resumé équipes '!J19 -> 0 | C20: ='1- resumé équipes '!K19 -> 0
A22: TOTAL | B22: =B12+B14+B16+B18+B20 -> 0 | C22: =C14+C16+C18+C20 -> 0
B23: RECETTES LIEES AU PROJET (en €)
A24: Subvention demandée à l'INCa | B24: ='1- resumé équipes '!N19 -> 0
A25: Autre(s) subvention(s) financant le projet (financeurs à préciser) | B25: ='1- resumé équipes '!O19 -> 0
A26: Autres ressources (à préciser) dont fonds propres du bénéficiaire (4) | B26: ='1- resumé équipes '!P19 -> 0
A27: TOTAL | B27: =B24+B25+B26 -> 0
A28: Le budget doit être présenté en équilibre : le montant pévisionnel des dépenses doit être égal au montant prévisionnel des recettes
A29: (1) achats de fournitures, prestations de services, locations, prestations intellectuelles, études, subventions versées, … (liste non exhaustive) (2) logiciels, équipements informatiques, mobiliers, gros matériels, … (liste non exhaustive) (3) montant éligible s'élevant à un maximum de 8% de l’ensemble du coût total des dépenses éligibles INCa effectivement payées (personnel, fonctionnement, équipement) (4) toute autre ressource (dons, cessions, apport des équipes bénéficaires inclus… ) servant à financer le projet

Sheet 3- détails équipe 1
A2: ='1- resumé équipes '!A2:E2 -> Appel à projets 2026 Consortiums de recherche «Prévention des cancers et Conduites addictives» PrevAddict26 Annexe financière Renseignements administratifs
A3: Titre du projet | B3: ='2- coût total projet '!B4:C4 -> 0
A4: Nom / Prénom du coordonnateur principal | B4: ='2- coût total projet '!B5:C5 -> 0
A5: Equipe n° ( ) : nom / prénom du responsable d'équipe
A6: Nom de l'organisme bénéficiaire d'une partie de la subvention
A7: Nom / Prénom du représentant légal
A8: Nom Prénom et adresse email du responsable administratif chargé du suivi du projet
A9: Budget par équipe à détailler
A10: Veuiller compléter un onglet/feuille par équipe (ajout de ligne possible)
B11: DEPENSES DU PROJET (en €)
B12: Dépenses directes liées à l'exécution du projet | C12: Dépenses demandées et éligibles INCa
A13: Dépenses de personnel relatives aux fonctionnaires d'état, hospitaliers, territoriaux ou internationaux | C13: Non éligible
A14: à détailler
A15: à détailler
A16: à détailler
A17: total dépenses de personnel (fonctionnaires d'état, hospitaliers ou territoriaux ) | B17: =SUM(B14:B16) -> 0
A18: Dépenses de personnel non statutaire
A19: à détailler
A20: à détailler
A21: à détailler
A22: total dépenses de personnel non statutaire | B22: =SUM(B19:B21) -> 0 | C22: =SUM(C19:C21) -> 0
A23: Dépenses de fonctionnement (1)
A24: à détailler
A25: à détailler
A26: à détailler
A27: total dépenses de fonctionnement | B27: =SUM(B24:B26) -> 0 | C27: =SUM(C24:C26) -> 0
A28: Dépenses d'équipement (2)
A29: à détailler
A30: à détailler
A31: à détailler
A32: total dépenses d'équipement | B32: =SUM(B29:B31) -> 0 | C32: =SUM(C29:C31) -> 0
A33: Frais de gestion (3)
A34: Montant des frais
A35: total dépenses des frais de gestion | B35: =SUM(B34:B34) -> 0 | C35: =SUM(C34:C34) -> 0
A36: TOTAL | B36: =SUM(B17+B22+B27+B32+B35) -> 0 | C36: =SUM(C22+C27+C32+C35) -> 0
A37: Ajouter autant de lignes de budget que de détails
B38: RECETTES LIEES AU PROJET (en €)
A39: Subvention demandée à l'INCa | B39: =C36 -> 0
A40: Autres subventions financant le projet (financeurs à préciser) :
A41: Autres ressources (à préciser) dont fonds propres du bénéficiaire (4) :
...

Sheet 3- détails équipe 2
A2: ='1- resumé équipes '!A2:E2 -> Appel à projets 2026 Consortiums de recherche «Prévention des cancers et Conduites addictives» PrevAddict26 Annexe financière Renseignements administratifs
A3: Titre du projet | B3: ='2- coût total projet '!B4:C4 -> 0
A4: Nom / Prénom du coordonnateur principal | B4: ='2- coût total projet '!B5:C5 -> 0
A5: Equipe n° ( ) : nom / prénom du responsable d'équipe
A6: Nom de l'organisme bénéficiaire d'une partie de la subvention
A7: Nom / Prénom du représentant légal
A8: Nom Prénom et adresse email du responsable administratif chargé du suivi du projet
A9: Budget par équipe à détailler
A10: Veuiller compléter un onglet/feuille par équipe (ajout de ligne possible)
B11: DEPENSES DU PROJET (en €)
B12: Dépenses directes liées à l'exécution du projet | C12: Dépenses demandées et éligibles INCa
A13: Dépenses de personnel relatives aux fonctionnaires d'état, hospitaliers, territoriaux ou internationaux | C13: Non éligible
A14: à détailler
A15: à détailler
A16: à détailler
A17: total dépenses de personnel (fonctionnaires d'état, hospitaliers ou territoriaux ) | B17: =SUM(B14:B16) -> 0
A18: Dépenses de personnel non statutaire
A19: à détailler
A20: à détailler
A21: à détailler
A22: total dépenses de personnel non statutaire | B22: =SUM(B19:B21) -> 0 | C22: =SUM(C19:C21) -> 0
A23: Dépenses de fonctionnement (1)
A24: à détailler
A25: à détailler
A26: à détailler
A27: total dépenses de fonctionnement | B27: =SUM(B24:B26) -> 0 | C27: =SUM(C24:C26) -> 0
A28: Dépenses d'équipement (2)
A29: à détailler
A30: à détailler
A31: à détailler
A32: total dépenses d'équipement | B32: =SUM(B29:B31) -> 0 | C32: =SUM(C29:C31) -> 0
A33: Frais de gestion (3)
A34: Montant des frais
A35: total dépenses des frais de gestion | B35: =SUM(B34:B34) -> 0 | C35: =SUM(C34:C34) -> 0
A36: TOTAL | B36: =SUM(B17+B22+B27+B32+B35) -> 0 | C36: =SUM(C22+C27+C32+C35) -> 0
A37: Ajouter autant de lignes de budget que de détails
B38: RECETTES LIEES AU PROJET (en €)
A39: Subvention demandée à l'INCa | B39: =C36 -> 0
A40: Autres subventions financant le projet (financeurs à préciser) :
A41: Autres ressources (à préciser) dont fonds propres du bénéficiaire (4) :
...

Sheet 3- détails équipe 3
A2: ='1- resumé équipes '!A2:E2 -> Appel à projets 2026 Consortiums de recherche «Prévention des cancers et Conduites addictives» PrevAddict26 Annexe financière Renseignements administratifs
A3: Titre du projet | B3: ='2- coût total projet '!B4:C4 -> 0
A4: Nom / Prénom du coordonnateur principal | B4: ='2- coût total projet '!B5:C5 -> 0
A5: Equipe n° ( ) : nom / prénom du responsable d'équipe
A6: Nom de l'organisme bénéficiaire d'une partie de la subvention
A7: Nom / Prénom du représentant légal
A8: Nom Prénom et adresse email du responsable administratif chargé du suivi du projet
A9: Budget par équipe à détailler
A10: Veuiller compléter un onglet/feuille par équipe (ajout de ligne possible)
B11: DEPENSES DU PROJET (en €)
B12: Dépenses directes liées à l'exécution du projet | C12: Dépenses demandées et éligibles INCa
A13: Dépenses de personnel relatives aux fonctionnaires d'état, hospitaliers, territoriaux ou internationaux | C13: Non éligible
A14: à détailler
A15: à détailler
A16: à détailler
A17: total dépenses de personnel (fonctionnaires d'état, hospitaliers ou territoriaux ) | B17: =SUM(B14:B16) -> 0
A18: Dépenses de personnel non statutaire
A19: à détailler
A20: à détailler
A21: à détailler
A22: total dépenses de personnel non statutaire | B22: =SUM(B19:B21) -> 0 | C22: =SUM(C19:C21) -> 0
A23: Dépenses de fonctionnement (1)
A24: à détailler
A25: à détailler
A26: à détailler
A27: total dépenses de fonctionnement | B27: =SUM(B24:B26) -> 0 | C27: =SUM(C24:C26) -> 0
A28: Dépenses d'équipement (2)
A29: à détailler
A30: à détailler
A31: à détailler
A32: total dépenses d'équipement | B32: =SUM(B29:B31) -> 0 | C32: =SUM(C29:C31) -> 0
A33: Frais de gestion (3)
A34: Montant des frais
A35: total dépenses des frais de gestion | B35: =SUM(B34:B34) -> 0 | C35: =SUM(C34:C34) -> 0
A36: TOTAL | B36: =SUM(B17+B22+B27+B32+B35) -> 0 | C36: =SUM(C22+C27+C32+C35) -> 0
A37: Ajouter autant de lignes de budget que de détails
B38: RECETTES LIEES AU PROJET (en €)
A39: Subvention demandée à l'INCa | B39: =C36 -> 0
A40: Autres subventions financant le projet (financeurs à préciser) :
A41: Autres ressources (à préciser) dont fonds propres du bénéficiaire (4) :
...

Sheet 3- détails équipe 4
A2: ='1- resumé équipes '!A2:E2 -> Appel à projets 2026 Consortiums de recherche «Prévention des cancers et Conduites addictives» PrevAddict26 Annexe financière Renseignements administratifs
A3: Titre du projet | B3: ='2- coût total projet '!B4:C4 -> 0
A4: Nom / Prénom du coordonnateur principal | B4: ='2- coût total projet '!B5:C5 -> 0
A5: Equipe n° ( ) : nom / prénom du responsable d'équipe
A6: Nom de l'organisme bénéficiaire d'une partie de la subvention
A7: Nom / Prénom du représentant légal
A8: Nom Prénom et adresse email du responsable administratif chargé du suivi du projet
A9: Budget par équipe à détailler
A10: Veuiller compléter un onglet/feuille par équipe (ajout de ligne possible)
B11: DEPENSES DU PROJET (en €)
B12: Dépenses directes liées à l'exécution du projet | C12: Dépenses demandées et éligibles INCa
A13: Dépenses de personnel relatives aux fonctionnaires d'état, hospitaliers, territoriaux ou internationaux | C13: Non éligible
A14: à détailler
A15: à détailler
A16: à détailler
A17: total dépenses de personnel (fonctionnaires d'état, hospitaliers ou territoriaux ) | B17: =SUM(B14:B16) -> 0
A18: Dépenses de personnel non statutaire
A19: à détailler
A20: à détailler
A21: à détailler
A22: total dépenses de personnel non statutaire | B22: =SUM(B19:B21) -> 0 | C22: =SUM(C19:C21) -> 0
A23: Dépenses de fonctionnement (1)
A24: à détailler
A25: à détailler
A26: à détailler
A27: total dépenses de fonctionnement | B27: =SUM(B24:B26) -> 0 | C27: =SUM(C24:C26) -> 0
A28: Dépenses d'équipement (2)
A29: à détailler
A30: à détailler
A31: à détailler
A32: total dépenses d'équipement | B32: =SUM(B29:B31) -> 0 | C32: =SUM(C29:C31) -> 0
A33: Frais de gestion (3)
A34: Montant des frais
A35: total dépenses des frais de gestion | B35: =SUM(B34:B34) -> 0 | C35: =SUM(C34:C34) -> 0
A36: TOTAL | B36: =SUM(B17+B22+B27+B32+B35) -> 0 | C36: =SUM(C22+C27+C32+C35) -> 0
A37: Ajouter autant de lignes de budget que de détails
B38: RECETTES LIEES AU PROJET (en €)
A39: Subvention demandée à l'INCa | B39: =C36 -> 0
A40: Autres subventions financant le projet (financeurs à préciser) :
A41: Autres ressources (à préciser) dont fonds propres du bénéficiaire (4) :
...

Sheet 3- détails équipe 5
A2: ='1- resumé équipes '!A2:E2 -> Appel à projets 2026 Consortiums de recherche «Prévention des cancers et Conduites addictives» PrevAddict26 Annexe financière Renseignements administratifs
A3: Titre du projet | B3: ='2- coût total projet '!B4:C4 -> 0
A4: Nom / Prénom du coordonnateur principal | B4: ='2- coût total projet '!B5:C5 -> 0
A5: Equipe n° ( ) : nom / prénom du responsable d'équipe
A6: Nom de l'organisme bénéficiaire d'une partie de la subvention
A7: Nom / Prénom du représentant légal
A8: Nom Prénom et adresse email du responsable administratif chargé du suivi du projet
A9: Budget par équipe à détailler
A10: Veuiller compléter un onglet/feuille par équipe (ajout de ligne possible)
B11: DEPENSES DU PROJET (en €)
B12: Dépenses directes liées à l'exécution du projet | C12: Dépenses demandées et éligibles INCa
A13: Dépenses de personnel relatives aux fonctionnaires d'état, hospitaliers, territoriaux ou internationaux | C13: Non éligible
A14: à détailler
A15: à détailler
A16: à détailler
A17: total dépenses de personnel (fonctionnaires d'état, hospitaliers ou territoriaux ) | B17: =SUM(B14:B16) -> 0
A18: Dépenses de personnel non statutaire
A19: à détailler
A20: à détailler
A21: à détailler
A22: total dépenses de personnel non statutaire | B22: =SUM(B19:B21) -> 0 | C22: =SUM(C19:C21) -> 0
A23: Dépenses de fonctionnement (1)
A24: à détailler
A25: à détailler
A26: à détailler
A27: total dépenses de fonctionnement | B27: =SUM(B24:B26) -> 0 | C27: =SUM(C24:C26) -> 0
A28: Dépenses d'équipement (2)
A29: à détailler
A30: à détailler
A31: à détailler
A32: total dépenses d'équipement | B32: =SUM(B29:B31) -> 0 | C32: =SUM(C29:C31) -> 0
A33: Frais de gestion (3)
A34: Montant des frais
A35: total dépenses des frais de gestion | B35: =SUM(B34) -> 0 | C35: =SUM(C34) -> 0
A36: TOTAL | B36: =SUM(B17+B22+B27+B32+B35) -> 0 | C36: =SUM(C22+C27+C32+C35) -> 0
A37: Ajouter autant de lignes de budget que de détails
B38: RECETTES LIEES AU PROJET (en €)
A39: Subvention demandée à l'INCa | B39: =C36 -> 0
A40: Autres subventions financant le projet (financeurs à préciser) :
A41: Autres ressources (à préciser) dont fonds propres du bénéficiaire (4) :
...

Sheet Feuil1
